BEGIN:VCALENDAR
VERSION:2.0
PRODID:-//RiverArts Staging - ECPv6.15.17.1//NONSGML v1.0//EN
CALSCALE:GREGORIAN
METHOD:PUBLISH
X-ORIGINAL-URL:https://staging.riverarts.org
X-WR-CALDESC:Events for RiverArts Staging
REFRESH-INTERVAL;VALUE=DURATION:PT1H
X-Robots-Tag:noindex
X-PUBLISHED-TTL:PT1H
BEGIN:VTIMEZONE
TZID:UTC
BEGIN:STANDARD
TZOFFSETFROM:+0000
TZOFFSETTO:+0000
TZNAME:UTC
DTSTART:20190101T000000
END:STANDARD
END:VTIMEZONE
BEGIN:VEVENT
DTSTART;TZID=UTC:20201027T080000
DTEND;TZID=UTC:20201027T170000
DTSTAMP:20260424T225348
CREATED:20201014T210815Z
LAST-MODIFIED:20201016T174947Z
UID:5878-1603785600-1603818000@staging.riverarts.org
SUMMARY:Mindfulness & Art for Adults – Virtual
DESCRIPTION:Relax in this peaceful workshop focused on mindfulness and art.\nTuesdays8-9 PMCost: $20/sessionLimit six people per class\nOCTOBER 20 — Weave a paper basketSupplies: Construction paper (at least 2 different colors)\, white copier paper\, pen or pencil\, scissors\, colored markers\, glue\, ruler (optional) \nOCTOBER 27 — Self-care practice with “Past and Future Hands”Supplies: 9×12” drawing paper\, color markers\, color pencils\, crayons\, or any of your favorite drawing/painting materials \n\n		\n		\n			\n				\n			\n			\n				\n			\n			\n				\n			\n		\n \nABOUT MISUK CHOE\nMisuk Choe recently completed her M.A. degree in art therapy from NYU. She is currently facilitating a Mindfulness and Art program at a Westchester hospice. She is also devoting her time on various sewing projects to help our frontline healthcare workers. When she is not working with clients or sewing\, Misuk devotes her time to creating paintings and sculptures. She studied sculpture and oil painting at SVA. Misuk enjoyed a successful career in the fashion industry prior to her art therapy profession. She hopes to share her passion for learning\, transforming\, and evolving as a person through the creative process. \nCONTACT US:\n DIRECTOR: 914.412.5120 to leave a message \nEMAIL: info@riverarts.org \n 
URL:https://staging.riverarts.org/event/mindfulness-art-for-adults-virtual/
CATEGORIES:Art
ATTACH;FMTTYPE=image/jpeg:https://staging.riverarts.org/wp-content/uploads/2020/10/Paper-roses-e1602869063133.jpg
END:VEVENT
BEGIN:VEVENT
DTSTART;TZID=UTC:20201020T080000
DTEND;TZID=UTC:20201020T170000
DTSTAMP:20260424T225348
CREATED:20201016T173746Z
LAST-MODIFIED:20201016T173901Z
UID:6009-1603180800-1603213200@staging.riverarts.org
SUMMARY:Mindfulness & Art for Adults – Virual
DESCRIPTION:Relax in this peaceful workshop focused on mindfulness and art.\nTuesdays8-9 PMCost: $20/sessionLimit six people per class\nOCTOBER 20 — Weave a paper basketSupplies: Construction paper (at least 2 different colors)\, white copier paper\, pen or pencil\, scissors\, colored markers\, glue\, ruler (optional) \nOCTOBER 27 — Self-care practice with “Past and Future Hands”Supplies: 9×12” drawing paper\, color markers\, color pencils\, crayons\, or any of your favorite drawing/painting materials \n\n\n\n\n\n\n\n\n\n\n\n  \nABOUT MISUK CHOE\nMisuk Choe recently completed her M.A. degree in art therapy from NYU. She is currently facilitating a Mindfulness and Art program at a Westchester hospice. She is also devoting her time on various sewing projects to help our frontline healthcare workers. When she is not working with clients or sewing\, Misuk devotes her time to creating paintings and sculptures. She studied sculpture and oil painting at SVA. Misuk enjoyed a successful career in the fashion industry prior to her art therapy profession. She hopes to share her passion for learning\, transforming\, and evolving as a person through the creative process. \nCONTACT US:\n DIRECTOR: 914.412.5120 to leave a message \nEMAIL: info@riverarts.org \n 
URL:https://staging.riverarts.org/event/mindfulness-art-for-adults-virtual-copy/
CATEGORIES:Art
ATTACH;FMTTYPE=image/jpeg:https://staging.riverarts.org/wp-content/uploads/2020/10/Paper-roses-e1602869063133.jpg
END:VEVENT
END:VCALENDAR